BEGIN:VCALENDAR
VERSION:2.0
PRODID:Events Booking
BEGIN:VEVENT
UID:69e6374267e1b
SUMMARY:Clima organizacional y su impacto en el desempeño laboral de las p
 ersonas
DESCRIPTION:&nbsp\;Este curso tiene como objetivo proporcionar herramientas
  conceptuales y prácticas necesarias para comprender\, evaluar y mejorar 
 el clima organizacional en los entornos laborales\, con miras a fortalecer
  el desempeño individual y colectivo\;&nbsp\;se explorará el impacto de 
 la tecnología en el clima organizacional\, analizando tanto sus oportunid
 ades como desafíos\, en un contexto cada vez más digitalizado que transf
 orma las formas de trabajar\, colaborar y comunicarse dentro de las organi
 zaciones.
DTSTART:20250922T150000Z
DTEND:20251001T170000Z
DTSTAMP:20250627T194308Z
ORGANIZER;CN=Pacto Global Red Colombia:MAILTO:eventos@pactoglobal-colombia.
 org
END:VEVENT
END:VCALENDAR