BEGIN:VCALENDAR
VERSION:2.0
PRODID:Events Booking
BEGIN:VEVENT
UID:69e991ca1f86e
SUMMARY:INVENTARIO DE GEI CATEGORÍA 1\, 2\, 3\, 4\, 5 Y 6 BAJO LA ISO 1406
 4
DESCRIPTION:Este curso le brindará herramientas para el entendimiento y ap
 licación de la metodología de estimación de Inventario GEI\, GHG e ISO 
 14064 Alcance 1 al 6 y otras emisiones indirectas con base en el GHG Proto
 col. Conozca y utilice la herramienta de cálculo para estimar las incerti
 dumbres en un Inventario de emisiones de GEI.
DTSTART:20260521T130000Z
DTEND:20260603T150000Z
DTSTAMP:20260421T081353Z
ORGANIZER;CN=Pacto Global Red Colombia:MAILTO:eventos@pactoglobal-colombia.
 org
END:VEVENT
END:VCALENDAR